BEGIN:VCALENDAR
VERSION:2.0
CALSCALE:GREGORIAN
PRODID:adamgibbons/ics
METHOD:PUBLISH
X-PUBLISHED-TTL:PT1H
BEGIN:VEVENT
UID:13183@balotta.org
SUMMARY:Come far saltare un oleodotto
DTSTAMP:20260421T030404Z
DTSTART:20260516T140000Z
DTEND:20260516T160000Z
URL:https://balotta.org/event/comefarsaltareunoleodotto
GEO:44.5154;11.342
LOCATION:Casa di Quartiere Fondo Comini - 68\, Via Aristotile Fioravanti\, 
	Arcoveggio\, Navile\, Bologna\, Emilia-Romagna\, 40129\, Italia
STATUS:CONFIRMED
CATEGORIES:emergenza ecologica,xr book club
END:VEVENT
END:VCALENDAR
